BEGIN:VCALENDAR
VERSION:2.0
PRODID:-//ASF | مدرسة الإسكندرية - ECPv6.15.20//NONSGML v1.0//EN
CALSCALE:GREGORIAN
METHOD:PUBLISH
X-ORIGINAL-URL:https://asfcs.org
X-WR-CALDESC:Events for ASF | مدرسة الإسكندرية
REFRESH-INTERVAL;VALUE=DURATION:PT1H
X-Robots-Tag:noindex
X-PUBLISHED-TTL:PT1H
BEGIN:VTIMEZONE
TZID:Africa/Cairo
BEGIN:DAYLIGHT
TZOFFSETFROM:+0200
TZOFFSETTO:+0300
TZNAME:EEST
DTSTART:20230427T220000
END:DAYLIGHT
BEGIN:STANDARD
TZOFFSETFROM:+0300
TZOFFSETTO:+0200
TZNAME:EET
DTSTART:20231026T210000
END:STANDARD
BEGIN:DAYLIGHT
TZOFFSETFROM:+0200
TZOFFSETTO:+0300
TZNAME:EEST
DTSTART:20240425T220000
END:DAYLIGHT
BEGIN:STANDARD
TZOFFSETFROM:+0300
TZOFFSETTO:+0200
TZNAME:EET
DTSTART:20241031T210000
END:STANDARD
BEGIN:DAYLIGHT
TZOFFSETFROM:+0200
TZOFFSETTO:+0300
TZNAME:EEST
DTSTART:20250424T220000
END:DAYLIGHT
BEGIN:STANDARD
TZOFFSETFROM:+0300
TZOFFSETTO:+0200
TZNAME:EET
DTSTART:20251030T210000
END:STANDARD
END:VTIMEZONE
BEGIN:VEVENT
DTSTART;TZID=Africa/Cairo:20240329T100000
DTEND;TZID=Africa/Cairo:20240329T180000
DTSTAMP:20260420T172400
CREATED:20241022T090820Z
LAST-MODIFIED:20241022T091108Z
UID:13913-1711706400-1711735200@asfcs.org
SUMMARY:الإنسان..نزاع ما بين الحنين و الأنين
DESCRIPTION:الإنسان لغز كبير!إزاي نفهم الإنسان وأصله ودعوته ودوره في الحياة؟هو دة السؤال اللي بيشغل ناس كتير النهاردة في العالم كله مش بس في العالم المسيحي.اللاهوت بيقدم لنا أجوبة للأسئلة دي وبيبني رواية كاملة بتبدأ من خلقه على الصورة الإلهية،وإزاي اتغرب عنها،وقبل الغواية والخداع، وإزاي لسة أنماط الغواية والخداع شغالة بطرق جديدة وآليات جديدة في العالم النهاردة، وإزاي الإنسان بيحاول يستقل تمامًا عن الله، وإيه معنى الإنسانية”في المسيح يسوع”، وإزاي تكون بتعيد فهم معاني الجسد والحرية والعلاقات، وإزاي الإنسانيّة الجديدة بتقدر تقدِّم عبادة جديدة، وإيه هو المصير اللي مدعو ليه الإنسان؟كل دة هنكون بنناقشه في الملتقى الروحي الول اللي بعنوان :الإنسان..نزاع مابين الحنين والأنين
URL:https://asfcs.org/event/%d8%a7%d9%84%d8%a5%d9%86%d8%b3%d8%a7%d9%86-%d9%86%d8%b2%d8%a7%d8%b9-%d9%85%d8%a7-%d8%a8%d9%8a%d9%86-%d8%a7%d9%84%d8%ad%d9%86%d9%8a%d9%86-%d9%88-%d8%a7%d9%84%d8%a3%d9%86%d9%8a%d9%86/
ATTACH;FMTTYPE=image/jpeg:https://asfcs.org/wp-content/uploads/2024/10/الإنسان-نزاع.jpg
END:VEVENT
END:VCALENDAR