BEGIN:VCALENDAR
VERSION:2.0
PRODID:-//ASF | مدرسة الإسكندرية - ECPv6.15.20//NONSGML v1.0//EN
CALSCALE:GREGORIAN
METHOD:PUBLISH
X-WR-CALNAME:ASF | مدرسة الإسكندرية
X-ORIGINAL-URL:https://asfcs.org
X-WR-CALDESC:Events for ASF | مدرسة الإسكندرية
REFRESH-INTERVAL;VALUE=DURATION:PT1H
X-Robots-Tag:noindex
X-PUBLISHED-TTL:PT1H
BEGIN:VTIMEZONE
TZID:Africa/Cairo
BEGIN:DAYLIGHT
TZOFFSETFROM:+0200
TZOFFSETTO:+0300
TZNAME:EEST
DTSTART:20230427T220000
END:DAYLIGHT
BEGIN:STANDARD
TZOFFSETFROM:+0300
TZOFFSETTO:+0200
TZNAME:EET
DTSTART:20231026T210000
END:STANDARD
BEGIN:DAYLIGHT
TZOFFSETFROM:+0200
TZOFFSETTO:+0300
TZNAME:EEST
DTSTART:20240425T220000
END:DAYLIGHT
BEGIN:STANDARD
TZOFFSETFROM:+0300
TZOFFSETTO:+0200
TZNAME:EET
DTSTART:20241031T210000
END:STANDARD
BEGIN:DAYLIGHT
TZOFFSETFROM:+0200
TZOFFSETTO:+0300
TZNAME:EEST
DTSTART:20250424T220000
END:DAYLIGHT
BEGIN:STANDARD
TZOFFSETFROM:+0300
TZOFFSETTO:+0200
TZNAME:EET
DTSTART:20251030T210000
END:STANDARD
END:VTIMEZONE
BEGIN:VEVENT
DTSTART;TZID=Africa/Cairo:20240602T100000
DTEND;TZID=Africa/Cairo:20240602T120000
DTSTAMP:20260420T103105
CREATED:20240609T114239Z
LAST-MODIFIED:20240611T082317Z
UID:2774-1717322400-1717329600@asfcs.org
SUMMARY:رحلة في سفر التكوين
DESCRIPTION:جلسات تأملية مصلية مع سفر التكوين \n\n\n\n\n\nيسر مدرسة الإسكندرية أن تعلن عن كورس بعنوانرحلة في سفر التكوينجلسات تأملية مصلية مع سفر التكوينتقدمه دينا طارق \n\n\n\nسيتم تغطية سبعة إصحاحات كل لقاءبحيث يكون الاجتماع مغذي للجلسات الفردية مع إصحاح يومي من كلمة الله على مدار الأسبوع \n\n\n\nيبدأ يوم الأحد ٢ يونيو ٢٠٢٤ | من ١٠ – ١٢ ظ |وذلك بمقر المدرسة بمصر الجديدةويستمر الكورس مدة ٧ أسابيع \n\n\n\nرجاء ملء الاستمارة وسيتم تأكيد الحضور من خلال رسالة خاصةhttps://tinyurl.com/yrd8ub28
URL:https://asfcs.org/event/%d8%b1%d8%ad%d9%84%d8%a9-%d9%81%d9%8a-%d8%b3%d9%81%d8%b1-%d8%a7%d9%84%d8%aa%d9%83%d9%88%d9%8a%d9%86/
LOCATION:مدرسة الأسكندرية\, 8 شارع الفسطاط متفرع من عثمان بن عفان ميدان الاسماعيلية – أمام المركز الثقافي اليوناني – الدور الأول\, مصر الجديدة\, Egypt
ATTACH;FMTTYPE=image/jpeg:https://asfcs.org/wp-content/uploads/2024/06/WhatsApp-Image-2024-06-06-at-10.22.45-PM-3.jpeg
END:VEVENT
END:VCALENDAR