BEGIN:VCALENDAR
VERSION:2.0
PRODID:-//ASF | مدرسة الإسكندرية - ECPv6.15.20//NONSGML v1.0//EN
CALSCALE:GREGORIAN
METHOD:PUBLISH
X-WR-CALNAME:ASF | مدرسة الإسكندرية
X-ORIGINAL-URL:https://asfcs.org
X-WR-CALDESC:Events for ASF | مدرسة الإسكندرية
REFRESH-INTERVAL;VALUE=DURATION:PT1H
X-Robots-Tag:noindex
X-PUBLISHED-TTL:PT1H
BEGIN:VTIMEZONE
TZID:Africa/Cairo
BEGIN:DAYLIGHT
TZOFFSETFROM:+0200
TZOFFSETTO:+0300
TZNAME:EEST
DTSTART:20230427T220000
END:DAYLIGHT
BEGIN:STANDARD
TZOFFSETFROM:+0300
TZOFFSETTO:+0200
TZNAME:EET
DTSTART:20231026T210000
END:STANDARD
BEGIN:DAYLIGHT
TZOFFSETFROM:+0200
TZOFFSETTO:+0300
TZNAME:EEST
DTSTART:20240425T220000
END:DAYLIGHT
BEGIN:STANDARD
TZOFFSETFROM:+0300
TZOFFSETTO:+0200
TZNAME:EET
DTSTART:20241031T210000
END:STANDARD
BEGIN:DAYLIGHT
TZOFFSETFROM:+0200
TZOFFSETTO:+0300
TZNAME:EEST
DTSTART:20250424T220000
END:DAYLIGHT
BEGIN:STANDARD
TZOFFSETFROM:+0300
TZOFFSETTO:+0200
TZNAME:EET
DTSTART:20251030T210000
END:STANDARD
END:VTIMEZONE
BEGIN:VEVENT
DTSTART;TZID=Africa/Cairo:20240404T180000
DTEND;TZID=Africa/Cairo:20240404T200000
DTSTAMP:20260420T121918
CREATED:20241022T065732Z
LAST-MODIFIED:20241022T065734Z
UID:13877-1712253600-1712260800@asfcs.org
SUMMARY:دلاَّل المبتدئين
DESCRIPTION:
URL:https://asfcs.org/event/%d8%af%d9%84%d8%a7%d9%8e%d9%91%d9%84-%d8%a7%d9%84%d9%85%d8%a8%d8%aa%d8%af%d8%a6%d9%8a%d9%86/
ATTACH;FMTTYPE=image/jpeg:https://asfcs.org/wp-content/uploads/2024/10/دلال-المبتدئين-4-ابريل.jpg
END:VEVENT
BEGIN:VEVENT
DTSTART;TZID=Africa/Cairo:20240408T190000
DTEND;TZID=Africa/Cairo:20240408T210000
DTSTAMP:20260420T121918
CREATED:20241022T070418Z
LAST-MODIFIED:20241022T091921Z
UID:13880-1712602800-1712610000@asfcs.org
SUMMARY:دور الخيال في تشكيل الإنسان
DESCRIPTION:يسر مدرسة الإسكندرية أن تقدم محاضرة عن دور الخيال في تشكيل الانسان
URL:https://asfcs.org/event/%d8%af%d9%88%d8%b1-%d8%a7%d9%84%d8%ae%d9%8a%d8%a7%d9%84-%d9%81%d9%8a-%d8%aa%d8%b4%d9%83%d9%8a%d9%84-%d8%a7%d9%84%d8%a5%d9%86%d8%b3%d8%a7%d9%86/
ATTACH;FMTTYPE=image/jpeg:https://asfcs.org/wp-content/uploads/2024/10/دور-الخيال.jpg
END:VEVENT
BEGIN:VEVENT
DTSTART;TZID=Africa/Cairo:20240416T190000
DTEND;TZID=Africa/Cairo:20240416T210000
DTSTAMP:20260420T121918
CREATED:20241022T070841Z
LAST-MODIFIED:20241022T070842Z
UID:13883-1713294000-1713301200@asfcs.org
SUMMARY:اللقاء مع الله وجها لوجه
DESCRIPTION:يسر مدرسة الإسكندرية أن تقدم محاضرة عن اللقاء مع الله وجهًا لوجه
URL:https://asfcs.org/event/%d8%a7%d9%84%d9%84%d9%82%d8%a7%d8%a1-%d9%85%d8%b9-%d8%a7%d9%84%d9%84%d9%87-%d9%88%d8%ac%d9%87%d8%a7-%d9%84%d9%88%d8%ac%d9%87/
ATTACH;FMTTYPE=image/jpeg:https://asfcs.org/wp-content/uploads/2024/10/اللقاء-مع-الله.jpg
END:VEVENT
BEGIN:VEVENT
DTSTART;TZID=Africa/Cairo:20240420T110000
DTEND;TZID=Africa/Cairo:20240420T150000
DTSTAMP:20260420T121918
CREATED:20241022T072152Z
LAST-MODIFIED:20241022T072154Z
UID:13886-1713610800-1713625200@asfcs.org
SUMMARY:يوم دراسي
DESCRIPTION:يسر مدرسة الإسكندرية أن تقدم محاضرتين في يوم دراسي ليتورجي.. \n\n\n\nالمحاضرة الولى بعنوان:التغيرات التي طرأت على البصخة المقدسة بدءًا من القرن العاشر الميلادي وحتى العصر الحالي .يقدمها رفيق عادل \n\n\n\nالمحاضرة الثانية بعنوان : القيامة والخمسين المقدسة .يقدمها دانيال نصيف
URL:https://asfcs.org/event/%d9%8a%d9%88%d9%85-%d8%af%d8%b1%d8%a7%d8%b3%d9%8a/
ATTACH;FMTTYPE=image/jpeg:https://asfcs.org/wp-content/uploads/2024/10/يوم-دراسي.jpg
END:VEVENT
BEGIN:VEVENT
DTSTART;TZID=Africa/Cairo:20240422T180000
DTEND;TZID=Africa/Cairo:20240422T210000
DTSTAMP:20260420T121918
CREATED:20241022T073316Z
LAST-MODIFIED:20241022T073318Z
UID:13891-1713808800-1713819600@asfcs.org
SUMMARY:الإنسان ما بين خلاص المسيح والخلاص التكنولوجي
DESCRIPTION:يسر مدرسة الإسكندرية أن تعلن عن محاضرة بعنوان الإنسان ما بين خلاص المسيح والخلاص التكنولوجي يقدمها الراهب سارافيم البرموسي
URL:https://asfcs.org/event/%d8%a7%d9%84%d8%a5%d9%86%d8%b3%d8%a7%d9%86-%d9%85%d8%a7-%d8%a8%d9%8a%d9%86-%d8%ae%d9%84%d8%a7%d8%b5-%d8%a7%d9%84%d9%85%d8%b3%d9%8a%d8%ad-%d9%88%d8%a7%d9%84%d8%ae%d9%84%d8%a7%d8%b5-%d8%a7%d9%84%d8%aa/
ATTACH;FMTTYPE=image/jpeg:https://asfcs.org/wp-content/uploads/2024/10/الإنسان-ما-بين-خلاص-المسيح-و-الخلاص-التكنولوجى.jpg
END:VEVENT
END:VCALENDAR