BEGIN:VCALENDAR
VERSION:2.0
PRODID:-//ASF | مدرسة الإسكندرية - ECPv6.15.20//NONSGML v1.0//EN
CALSCALE:GREGORIAN
METHOD:PUBLISH
X-WR-CALNAME:ASF | مدرسة الإسكندرية
X-ORIGINAL-URL:https://asfcs.org
X-WR-CALDESC:Events for ASF | مدرسة الإسكندرية
REFRESH-INTERVAL;VALUE=DURATION:PT1H
X-Robots-Tag:noindex
X-PUBLISHED-TTL:PT1H
BEGIN:VTIMEZONE
TZID:Africa/Cairo
BEGIN:DAYLIGHT
TZOFFSETFROM:+0200
TZOFFSETTO:+0300
TZNAME:EEST
DTSTART:20230427T220000
END:DAYLIGHT
BEGIN:STANDARD
TZOFFSETFROM:+0300
TZOFFSETTO:+0200
TZNAME:EET
DTSTART:20231026T210000
END:STANDARD
BEGIN:DAYLIGHT
TZOFFSETFROM:+0200
TZOFFSETTO:+0300
TZNAME:EEST
DTSTART:20240425T220000
END:DAYLIGHT
BEGIN:STANDARD
TZOFFSETFROM:+0300
TZOFFSETTO:+0200
TZNAME:EET
DTSTART:20241031T210000
END:STANDARD
BEGIN:DAYLIGHT
TZOFFSETFROM:+0200
TZOFFSETTO:+0300
TZNAME:EEST
DTSTART:20250424T220000
END:DAYLIGHT
BEGIN:STANDARD
TZOFFSETFROM:+0300
TZOFFSETTO:+0200
TZNAME:EET
DTSTART:20251030T210000
END:STANDARD
END:VTIMEZONE
BEGIN:VEVENT
DTSTART;TZID=Africa/Cairo:20240511T110000
DTEND;TZID=Africa/Cairo:20240511T130000
DTSTAMP:20260420T104201
CREATED:20241021T074747Z
LAST-MODIFIED:20241021T074856Z
UID:13818-1715425200-1715432400@asfcs.org
SUMMARY:المقوقس - الأسقف المسلح
DESCRIPTION:يسر مدرسة الإسكندرية أن تعلن عن محاضرة بعنوان :المقوقس-الأسقف المسلح
URL:https://asfcs.org/event/%d8%a7%d9%84%d9%85%d9%82%d9%88%d9%82%d8%b3-%d8%a7%d9%84%d8%a3%d8%b3%d9%82%d9%81-%d8%a7%d9%84%d9%85%d8%b3%d9%84%d8%ad/
ATTACH;FMTTYPE=image/jpeg:https://asfcs.org/wp-content/uploads/2024/10/المقوقس.jpg
END:VEVENT
BEGIN:VEVENT
DTSTART;TZID=Africa/Cairo:20240512T063000
DTEND;TZID=Africa/Cairo:20240512T210000
DTSTAMP:20260420T104201
CREATED:20241022T074113Z
LAST-MODIFIED:20241022T074114Z
UID:13895-1715495400-1715547600@asfcs.org
SUMMARY:قراءة في الكتاب - رسالة يهوذا
DESCRIPTION:في إطار سلسلة اللقاءات المعنية بالتشكيل الروحي والتأسيس اللاهوتي،تعلن مدرسة الإسكندرية عن قراءة في الكتاب-رسالة يهوذا مع أبونا سارافيم البرموسي
URL:https://asfcs.org/event/%d9%82%d8%b1%d8%a7%d8%a1%d8%a9-%d9%81%d9%8a-%d8%a7%d9%84%d9%83%d8%aa%d8%a7%d8%a8-%d8%b1%d8%b3%d8%a7%d9%84%d8%a9-%d9%8a%d9%87%d9%88%d8%b0%d8%a7-2/
ATTACH;FMTTYPE=image/jpeg:https://asfcs.org/wp-content/uploads/2024/07/WhatsApp-Image-2024-07-05-at-4.29.25-PM.jpeg
END:VEVENT
BEGIN:VEVENT
DTSTART;TZID=Africa/Cairo:20240514T180000
DTEND;TZID=Africa/Cairo:20240514T210000
DTSTAMP:20260420T104201
CREATED:20241105T100139Z
LAST-MODIFIED:20241105T100149Z
UID:14147-1715709600-1715720400@asfcs.org
SUMMARY:كورس الثالوث
DESCRIPTION:تتشرف مدرسة الإسكندرية أن تعلن عن كورس الثالوث يقدمه الدكتور عادل زكري
URL:https://asfcs.org/event/%d9%83%d9%88%d8%b1%d8%b3-%d8%a7%d9%84%d8%ab%d8%a7%d9%84%d9%88%d8%ab-2/
ATTACH;FMTTYPE=image/jpeg:https://asfcs.org/wp-content/uploads/2024/09/WhatsApp-Image-2024-08-07-at-12.35.05.jpeg
END:VEVENT
BEGIN:VEVENT
DTSTART;TZID=Africa/Cairo:20240521T180000
DTEND;TZID=Africa/Cairo:20240521T210000
DTSTAMP:20260420T104201
CREATED:20241105T100519Z
LAST-MODIFIED:20241105T100528Z
UID:14149-1716314400-1716325200@asfcs.org
SUMMARY:كورس الثالوث
DESCRIPTION:تتشرف مدرسة الإسكندرية أن تعلن عن كورس الثالوث يقدمه الدكتور عادل زكري
URL:https://asfcs.org/event/%d9%83%d9%88%d8%b1%d8%b3-%d8%a7%d9%84%d8%ab%d8%a7%d9%84%d9%88%d8%ab-3/
ATTACH;FMTTYPE=image/jpeg:https://asfcs.org/wp-content/uploads/2024/09/WhatsApp-Image-2024-08-07-at-12.35.05-3.jpeg
END:VEVENT
BEGIN:VEVENT
DTSTART;TZID=Africa/Cairo:20240528T180000
DTEND;TZID=Africa/Cairo:20240528T210000
DTSTAMP:20260420T104201
CREATED:20241105T101120Z
LAST-MODIFIED:20241105T101129Z
UID:14152-1716919200-1716930000@asfcs.org
SUMMARY:كورس الثالوث
DESCRIPTION:تتشرف مدرسة  الإسكندرية أن تعلن عن كورس الثالوث يقدمه الدكتور عادل زكري
URL:https://asfcs.org/event/%d9%83%d9%88%d8%b1%d8%b3-%d8%a7%d9%84%d8%ab%d8%a7%d9%84%d9%88%d8%ab-4/
ATTACH;FMTTYPE=image/jpeg:https://asfcs.org/wp-content/uploads/2024/09/WhatsApp-Image-2024-08-07-at-12.35.05.jpeg
END:VEVENT
END:VCALENDAR